BEGIN:VCALENDAR
VERSION:2.0
PRODID:-//Tukios.com/
BEGIN:VEVENT
UID:16d5423a-5058-4c9a-8413-d2b3c9429f1d@www.bruzdzinski.com
DTSTAMP:20260422T000232Z
DTSTART:20260425T180000Z
DTEND:20260425T200000Z
SUMMARY:Visitation
DESCRIPTION:
URL:https://www.bruzdzinski.com/obituaries/brenda-mcgonigal
LOCATION: 1407 Old Eastern Ave  Essex MD 21221
GEO:39.3139117;-76.4557079
END:VEVENT
END:VCALENDAR