BEGIN:VCALENDAR
VERSION:2.0
PRODID:-//Tukios.com/
BEGIN:VEVENT
UID:733a7c99-1f65-4a95-bccf-2b1953a22e7e@www.bruzdzinski.com
DTSTAMP:20260422T000232Z
DTSTART:20260425T220000Z
DTEND:20260425T230000Z
SUMMARY:Visitation
DESCRIPTION:
URL:https://www.bruzdzinski.com/obituaries/brenda-mcgonigal
LOCATION: 1407 Old Eastern Ave  Essex MD 21221
GEO:39.3139117;-76.4557079
END:VEVENT
END:VCALENDAR