BEGIN:VCALENDAR
VERSION:2.0
PRODID:-//Tukios.com/
BEGIN:VEVENT
UID:7cac0c2f-c741-4de0-8f09-d44e171462ea@www.bruzdzinski.com
DTSTAMP:20260422T000656Z
DTSTART:20260425T230000Z
DTEND:20260426T000000Z
SUMMARY:Funeral Service
DESCRIPTION:
URL:https://www.bruzdzinski.com/obituaries/brenda-mcgonigal
LOCATION: 1407 Old Eastern Ave  Essex MD 21221
GEO:39.3139117;-76.4557079
END:VEVENT
END:VCALENDAR