BEGIN:VCALENDAR
VERSION:2.0
PRODID:-//Tukios.com/
BEGIN:VEVENT
UID:551ee8b4-d713-4481-924c-5e8bfb95902e@www.bruzdzinski.com
DTSTAMP:20260425T232454Z
DTSTART:20260428T143000Z
DTEND:20260428T150000Z
SUMMARY:Burial
DESCRIPTION:
URL:https://www.bruzdzinski.com/obituaries/christopher-moore
LOCATION: 10201 Bird River Road  Baltimore MD 21220
GEO:39.3603935;-76.4261903
END:VEVENT
END:VCALENDAR