BEGIN:VCALENDAR
VERSION:2.0
PRODID:-//Tukios.com/
BEGIN:VEVENT
UID:44948362-aebe-487e-9851-6d63ef8a1863@www.bruzdzinski.com
DTSTAMP:20260420T222445Z
DTSTART:20260423T180000Z
DTEND:20260423T200000Z
SUMMARY:Visitation
DESCRIPTION:
URL:https://www.bruzdzinski.com/obituaries/katherine-simmons
LOCATION: 1407 Old Eastern Avenue  Essex MD 21221
GEO:39.3138978;-76.4556409
END:VEVENT
END:VCALENDAR