BEGIN:VCALENDAR
VERSION:2.0
PRODID:-//Tukios.com/
BEGIN:VEVENT
UID:3d98e633-6519-4983-b12c-6d0a8979f3a9@www.bruzdzinski.com
DTSTAMP:20260420T222557Z
DTSTART:20260423T220000Z
DTEND:20260424T000000Z
SUMMARY:Visitation
DESCRIPTION:
URL:https://www.bruzdzinski.com/obituaries/katherine-simmons
LOCATION: 1407 Old Eastern Avenue  Essex MD 21221
GEO:39.3138978;-76.4556409
END:VEVENT
END:VCALENDAR