BEGIN:VCALENDAR
VERSION:2.0
PRODID:-//Tukios.com/
BEGIN:VEVENT
UID:13371900-292e-41f3-bcc6-fa127cb88d78@www.bruzdzinski.com
DTSTAMP:20260420T223215Z
DTSTART:20260424T160000Z
DTEND:20260424T170000Z
SUMMARY:Funeral Service
DESCRIPTION:
URL:https://www.bruzdzinski.com/obituaries/katherine-simmons
LOCATION: 1407 Old Eastern Avenue  Essex MD 21221
GEO:39.3138978;-76.4556409
END:VEVENT
END:VCALENDAR