BEGIN:VCALENDAR
VERSION:2.0
PRODID:-//Tukios.com/
BEGIN:VEVENT
UID:01398720-8241-409a-b717-928e39839327@www.bruzdzinski.com
DTSTAMP:20260421T193834Z
DTSTART:20260424T140000Z
DTEND:20260424T150000Z
SUMMARY:Visitation
DESCRIPTION:
URL:https://www.bruzdzinski.com/obituaries/robert-lantz
LOCATION: 3620 Red Rose Farm Road  Middle River MD 21220
GEO:39.3260545;-76.3952743
END:VEVENT
END:VCALENDAR