BEGIN:VCALENDAR
VERSION:2.0
PRODID:-//Tukios.com/
BEGIN:VEVENT
UID:30240f04-805b-495a-9996-baae8d185e1d@www.bruzdzinski.com
DTSTAMP:20260421T193814Z
DTSTART:20260424T151500Z
DTEND:20260424T161500Z
SUMMARY:Mass
DESCRIPTION:
URL:https://www.bruzdzinski.com/obituaries/robert-lantz
LOCATION: 3620 Red Rose Farm Road  Middle River MD 21220
GEO:39.3260545;-76.3952743
END:VEVENT
END:VCALENDAR